BEGIN:VCALENDAR
VERSION:2.0
PRODID:-//NB4 Events//EN
BEGIN:VEVENT
UID:949@totemplazacafe.it
DTSTAMP:20260417T172142Z
DTSTART:20260419T193000Z
DTEND:20260418T220000Z
SUMMARY:NON È IL KARAOKE
LOCATION:Via Torri Bianche\, 7 Vimercate (MB) Quartiere Torri bianche.
DESCRIPTION:Stagione 2025-2026\nOgni domenica\, a partire dal 5 ottobre – ore 21:30\nRAGAZZI CI SIAMO\, è tornato.L’unico. L’inimitabile. L’ufficialmente registrato e scientificamente devastante…\n\nNON È IL KARAOKE\nIl format che ha fatto tremare microfoni e cuori torna più forte che mai.Ogni domenica sera\, preparatevi a cantare\, ballare e (soprattutto) perdere ogni dignità con stile.\n\n\n\n\nSPECIAL BONUS PER LE DONNE\nDrink omaggio per tutte le donne.
END:VEVENT
END:VCALENDAR
